BEGIN:VCALENDAR
VERSION:2.0
PRODID:-//eventon.com NONSGML v1.0//EN
CALSCALE:GREGORIAN
METHOD:PUBLISH
BEGIN:VEVENT
UID:69e84f83484c9
DTSTAMP:20260422T043307Z
DTSTART:20260424T130000Z
DTEND:20260424T150000Z
LOCATION:New Waterford Community Wellness Centre Eighth Street
SUMMARY:How To Talk So Kids Will Listen - New Waterford
DESCRIPTION:This supportive parent/caregiver group provides a relaxed\,  ac
 cepting environment where parents/caregivers share information\,  technique
 s and challenges\,  and learn new approaches to parenting. Various topics a
 re covered during this curriculum based program.\nhttps://familyplace.ca/ev
 ents/how-to-talk-so-kids-will-listen-new-waterford/var/ri-2.l-L1
URL:https://familyplace.ca/events/how-to-talk-so-kids-will-listen-new-waterford/var/ri-2.l-L1
END:VEVENT
END:VCALENDAR