BEGIN:VCALENDAR
VERSION:2.0
PRODID:-//eventon.com NONSGML v1.0//EN
CALSCALE:GREGORIAN
METHOD:PUBLISH
BEGIN:VEVENT
UID:69e610993f5b2
DTSTAMP:20260420T114009Z
DTSTART:20260112T133000Z
DTEND:20260112T153000Z
LOCATION:New Waterford Community Wellness Centre Eighth Street
SUMMARY:Play Group - Children with Exceptionalities- New Waterford - Cancelled
DESCRIPTION:Play Group &#8211; Children with Exceptionalities &#8211; New W
 aterford is cancelled today\,  Monday\,  January 12\,  2026.\nhttps://famil
 yplace.ca/events/play-group-children-with-exceptionalities-new-waterford-ca
 ncelled/var/ri-20.l-L1
URL:https://familyplace.ca/events/play-group-children-with-exceptionalities-new-waterford-cancelled/var/ri-20.l-L1
END:VEVENT
END:VCALENDAR