BEGIN:VCALENDAR
VERSION:2.0
PRODID:-//eventon.com NONSGML v1.0//EN
CALSCALE:GREGORIAN
METHOD:PUBLISH
BEGIN:VEVENT
UID:69e6346929376
DTSTAMP:20260420T141257Z
DTSTART:20250124T140000Z
DTEND:20250124T150000Z
LOCATION:Inverary Manor 72 Maple Street\,  Inverness
SUMMARY:Mother Goose - Inverness Is Cancelled
DESCRIPTION:Group experiences for parents\,  child care providers\,  babies
  and young children focusing on the pleasure and power of sharing rhymes\, 
  songs\,  and stories together.  So much learning takes place while focusi
 ng on fun for all &#8211; laughing\,  playing and listening to stories.  T
 he program offers an opportunity to further develop[..]\nhttps://familyplac
 e.ca/events/mother-goose-inverness-is-cancelled/
URL:https://familyplace.ca/events/mother-goose-inverness-is-cancelled/
END:VEVENT
END:VCALENDAR