BEGIN:VCALENDAR
VERSION:2.0
PRODID:-//eventon.com NONSGML v1.0//EN
CALSCALE:GREGORIAN
METHOD:PUBLISH
BEGIN:VEVENT
UID:69e6368982231
DTSTAMP:20260420T142201Z
DTSTART:20250422T123000Z
DTEND:20250422T140000Z
LOCATION:Family Place - Inverness Office 15792 Central Avenue\,  Inverness
SUMMARY:Baby Talk - Inverness Date Change
DESCRIPTION:Our Baby Talk group will take place at the Inverness Family Pla
 ce Resource Centre on April 23\,  2025 at 1:30 pm. We apologize for any inc
 onvenience. For additional information\,  please call (902) 258-3002 or ema
 il laylward@familyplace.ca.\nhttps://familyplace.ca/events/baby-talk-invern
 ess-is-cancelled/
URL:https://familyplace.ca/events/baby-talk-inverness-is-cancelled/
END:VEVENT
END:VCALENDAR