BEGIN:VCALENDAR
VERSION:2.0
PRODID:-//eventon.com NONSGML v1.0//EN
CALSCALE:GREGORIAN
METHOD:PUBLISH
BEGIN:VEVENT
UID:69e63471c0263
DTSTAMP:20260420T141305Z
DTSTART:20231005T123000Z
DTEND:20231005T140000Z
LOCATION:Community Cares 55 King Street\,  Sydney Mines
SUMMARY:Parent Talk - Sydney Mines
DESCRIPTION:These supportive parent/caregiver groups provide a relaxed\,  a
 ccepting environment where parents/caregivers share information\,  techniqu
 es and challenges\,  and learn new approaches to parenting. Weekly sessions
  provide information about specific topics concerning parenting or child de
 velopment. Topic areas are determined by parent/caregiver interest.\nhttps:
 //familyplace.ca/events/parent-talk-arichat/
URL:https://familyplace.ca/events/parent-talk-arichat/
END:VEVENT
END:VCALENDAR