BEGIN:VCALENDAR
VERSION:2.0
PRODID:-//eventon.com NONSGML v1.0//EN
CALSCALE:GREGORIAN
METHOD:PUBLISH
BEGIN:VEVENT
UID:69e65e30c02d8
DTSTAMP:20260420T171112Z
DTSTART:20250717T123000Z
DTEND:20250717T143000Z
LOCATION:Family Place - Sydney Office 714 Alexandra Street\,  Sydney
SUMMARY:Cooking with Kids - Sydney
DESCRIPTION:Parents and their children learning to cook together is a recip
 e that works. During this program\,  children will develop the fundamentals
  of cooking and food preparation while parents can support their child in a
  safe\,  supervised environment. Parents and children work together to prep
 are delicious food to enjoy in the[..]\nhttps://familyplace.ca/events/cooki
 ng-with-kids-sydney/var/ri-2.l-L1
URL:https://familyplace.ca/events/cooking-with-kids-sydney/var/ri-2.l-L1
END:VEVENT
END:VCALENDAR