BEGIN:VCALENDAR
VERSION:2.0
PRODID:-//eventon.com NONSGML v1.0//EN
CALSCALE:GREGORIAN
METHOD:PUBLISH
BEGIN:VEVENT
UID:69e6346925b62
DTSTAMP:20260420T141257Z
DTSTART:20250703T123000Z
DTEND:20250703T143000Z
LOCATION:Family Place - Sydney Office 714 Alexandra Street\,  Sydney
SUMMARY:Cooking with Kids - Sydney
DESCRIPTION:Parents and their children learning to cook together is a recip
 e that works. During this program\,  children will develop the fundamentals
  of cooking and food preparation while parents can support their child in a
  safe\,  supervised environment. Parents and children work together to prep
 are delicious food to enjoy in the[..]\nhttps://familyplace.ca/events/cooki
 ng-with-kids-sydney/
URL:https://familyplace.ca/events/cooking-with-kids-sydney/
END:VEVENT
END:VCALENDAR