BEGIN:VCALENDAR
VERSION:2.0
PRODID:-//eventon.com NONSGML v1.0//EN
CALSCALE:GREGORIAN
METHOD:PUBLISH
BEGIN:VEVENT
UID:69e646d008dd6
DTSTAMP:20260420T153128Z
DTSTART:20200221T130000Z
DTEND:20200221T150000Z
LOCATION:Family Place - Sydney Office 714 Alexandra Street\,  Sydney
SUMMARY:Car Seat Clinic - Sydney
DESCRIPTION:Since injuries sustained in motor vehicle collisions are a lead
 ing cause of death for Canadian children\,  an important part of injury pre
 vention work is to facilitate child restraint systems presentations and ins
 tallations.  The majority of these injuries are predictable and preventabl
 e. Technicians trained by the Child Passenger Safety Association of[..]\nht
 tps://familyplace.ca/events/car-seat-clinic-sydney-2/var/ri-1.l-L1
URL:https://familyplace.ca/events/car-seat-clinic-sydney-2/var/ri-1.l-L1
END:VEVENT
END:VCALENDAR