BEGIN:VCALENDAR
VERSION:2.0
PRODID:-//eventon.com NONSGML v1.0//EN
CALSCALE:GREGORIAN
METHOD:PUBLISH
BEGIN:VEVENT
UID:69e63512bf179
DTSTAMP:20260420T141546Z
DTSTART:20240329
DTEND:20240330
LOCATION:All Locations
SUMMARY:Easter Break
DESCRIPTION:All Family Place offices are closed for the holidays.\nhttps://
 familyplace.ca/events/easter-break-2/
URL:https://familyplace.ca/events/easter-break-2/
END:VEVENT
END:VCALENDAR