BEGIN:VCALENDAR
VERSION:2.0
PRODID:-//eventon.com NONSGML v1.0//EN
CALSCALE:GREGORIAN
METHOD:PUBLISH
BEGIN:VEVENT
UID:69e8a4f1d0ec1
DTSTAMP:20260422T103737Z
DTSTART:20191105T163000Z
DTEND:20191105T173000Z
LOCATION:Glace Bay Fire Hall 87 Reserve Street\,  Glace Bay
SUMMARY:Tumblebugs - Glace Bay
DESCRIPTION:The Tumblebugs Program is a ten week program for children ages 
 3 ½ &#8211; 5 years and their parents or caregivers.  Join us for a fun f
 illed afternoon that includes songs\,  rhymes\,  basic gymnastics and physi
 cal activity.  Children and adults should wear comfortable clothes and a p
 air of sneakers.  The[..]\nhttps://familyplace.ca/events/tumblebugs-glace-
 bay/
URL:https://familyplace.ca/events/tumblebugs-glace-bay/
END:VEVENT
END:VCALENDAR