BEGIN:VCALENDAR
VERSION:2.0
PRODID:-//eventon.com NONSGML v1.0//EN
CALSCALE:GREGORIAN
METHOD:PUBLISH
BEGIN:VEVENT
UID:69e635872318c
DTSTAMP:20260420T141743Z
DTSTART:20191213T130000Z
DTEND:20191213T150000Z
LOCATION:Family Place - Sydney Office 714 Alexandra Street\,  Sydney
SUMMARY:Car Seat Clinic - Sydney
DESCRIPTION:Since injuries sustained in motor vehicle collisions are a lead
 ing cause of death for Canadian children\,  an important part of injury pre
 vention work is to facilitate child restraint systems presentations and ins
 tallations. The majority of these injuries are predictable and preventable.
   Technicians trained by the Child Passenger Association of Canada[..]\nht
 tps://familyplace.ca/events/car-seat-clinic-sydney/
URL:https://familyplace.ca/events/car-seat-clinic-sydney/
END:VEVENT
END:VCALENDAR